BEGIN:VCALENDAR
VERSION:2.0
CALSCALE:GREGORIAN
PRODID:-//Diputació de Barcelona//DibaCMS//EN
BEGIN:VEVENT
UID:6185
DTSTAMP:20260424T171828
DTSTART:20111226T080000
DTEND:20111226T000000
SUMMARY:Caminada post-nadalenca pel Montseny
LOCATION:
METHOD:PUBLISH
X-WR-CALNAME:caldesm@caldesdemontbui.cat
X-WR-TIMEZONE:Europe/Madrid
DESCRIPTION:
URI:https://www.caldesdemontbui.cat/actualitat/agenda/caminada-post-nadalenca-pel-montseny.html
CLASS:PUBLIC
END:VEVENT
END:VCALENDAR
