BEGIN:VCALENDAR
VERSION:2.0
CALSCALE:GREGORIAN
PRODID:-//Diputació de Barcelona//DibaCMS//EN
BEGIN:VEVENT
UID:6184
DTSTAMP:20260424T171934
DTSTART:20111225T183000
DTEND:20111225T000000
SUMMARY:Els Pastorets, representats pel GEC i dirigits per Francesc Serra
LOCATION:
METHOD:PUBLISH
X-WR-CALNAME:caldesm@caldesdemontbui.cat
X-WR-TIMEZONE:Europe/Madrid
DESCRIPTION:
URI:https://www.caldesdemontbui.cat/actualitat/agenda/els-pastorets-representats-pel-gec-i-dirigits-per-francesc-serra.html
CLASS:PUBLIC
END:VEVENT
END:VCALENDAR
