BEGIN:VCALENDAR
VERSION:2.0
CALSCALE:GREGORIAN
PRODID:-//Diputació de Barcelona//DibaCMS//EN
BEGIN:VEVENT
UID:6183
DTSTAMP:20260424T171700
DTSTART:20111224T000000
DTEND:20111224T000000
SUMMARY:Missa del Gall amb la Coral de Santa Cecília
LOCATION:
METHOD:PUBLISH
X-WR-CALNAME:caldesm@caldesdemontbui.cat
X-WR-TIMEZONE:Europe/Madrid
DESCRIPTION:
URI:https://www.caldesdemontbui.cat/actualitat/agenda/missa-del-gall-amb-la-coral-de-santa-cecilia.html
CLASS:PUBLIC
END:VEVENT
END:VCALENDAR
