BEGIN:VCALENDAR
VERSION:2.0
CALSCALE:GREGORIAN
PRODID:-//Diputació de Barcelona//DibaCMS//EN
BEGIN:VEVENT
UID:6182
DTSTAMP:20260424T171812
DTSTART:20111224T000000
DTEND:20111224T000000
SUMMARY:Exposició de fotografies del Concurs de pessebres de casa. Fins el 14 de gener
LOCATION:
METHOD:PUBLISH
X-WR-CALNAME:caldesm@caldesdemontbui.cat
X-WR-TIMEZONE:Europe/Madrid
DESCRIPTION:
URI:https://www.caldesdemontbui.cat/actualitat/agenda/exposicio-de-fotografies-del-concurs-de-pessebres-de-casa-fins-el-14-de-gener.html
CLASS:PUBLIC
END:VEVENT
END:VCALENDAR
