BEGIN:VCALENDAR
VERSION:2.0
CALSCALE:GREGORIAN
PRODID:-//Diputació de Barcelona//DibaCMS//EN
BEGIN:VEVENT
UID:6179
DTSTAMP:20260424T191511
DTSTART:20111222T000000
DTEND:20111222T000000
SUMMARY:Cantades de Nadales i altres activitats de les Escoles Calderí, Montbui i Farell
LOCATION:
METHOD:PUBLISH
X-WR-CALNAME:caldesm@caldesdemontbui.cat
X-WR-TIMEZONE:Europe/Madrid
DESCRIPTION:
URI:https://www.caldesdemontbui.cat/actualitat/agenda/cantades-de-nadales-i-altres-activitats-de-les-escoles-calderi-montbui-i-farell.html
CLASS:PUBLIC
END:VEVENT
END:VCALENDAR
