BEGIN:VCALENDAR
VERSION:2.0
CALSCALE:GREGORIAN
PRODID:-//Diputació de Barcelona//DibaCMS//EN
BEGIN:VEVENT
UID:6178
DTSTAMP:20260424T191349
DTSTART:20111221T203000
DTEND:20111221T000000
SUMMARY:Presentació del llibre 'Cantata apostata para Arvo Pärt', de Manolo Villa
LOCATION:
METHOD:PUBLISH
X-WR-CALNAME:caldesm@caldesdemontbui.cat
X-WR-TIMEZONE:Europe/Madrid
DESCRIPTION:
URI:https://www.caldesdemontbui.cat/actualitat/agenda/presentacio-del-llibre-cantata-apostata-para-arvo-part-de-manolo-villa.html
CLASS:PUBLIC
END:VEVENT
END:VCALENDAR
