BEGIN:VCALENDAR
VERSION:2.0
CALSCALE:GREGORIAN
PRODID:-//Diputació de Barcelona//DibaCMS//EN
BEGIN:VEVENT
UID:6177
DTSTAMP:20260423T213031
DTSTART:20111221T203000
DTEND:20111221T000000
SUMMARY:Teatre a càrrec dels alumnes de CS2
LOCATION:
METHOD:PUBLISH
X-WR-CALNAME:caldesm@caldesdemontbui.cat
X-WR-TIMEZONE:Europe/Madrid
DESCRIPTION:
URI:https://www.caldesdemontbui.cat/actualitat/agenda/teatre-a-carrec-dels-alumnes-de-cs2.html
CLASS:PUBLIC
END:VEVENT
END:VCALENDAR
