BEGIN:VCALENDAR
VERSION:2.0
CALSCALE:GREGORIAN
PRODID:-//Diputació de Barcelona//DibaCMS//EN
BEGIN:VEVENT
UID:6174
DTSTAMP:20260424T004234
DTSTART:20111219T171500
DTEND:20111219T000000
SUMMARY:Exposició Febre Divendres Nit, fins el 9 de gener
LOCATION:
METHOD:PUBLISH
X-WR-CALNAME:caldesm@caldesdemontbui.cat
X-WR-TIMEZONE:Europe/Madrid
DESCRIPTION:
URI:https://www.caldesdemontbui.cat/actualitat/agenda/exposicio-febre-divendres-nit-fins-el-9-de-gener.html
CLASS:PUBLIC
END:VEVENT
END:VCALENDAR
