BEGIN:VCALENDAR
VERSION:2.0
CALSCALE:GREGORIAN
PRODID:-//Diputació de Barcelona//DibaCMS//EN
BEGIN:VEVENT
UID:6173
DTSTAMP:20260424T040949
DTSTART:20111218T190000
DTEND:20111218T000000
SUMMARY:Concert de Gospel Tons & Sons
LOCATION:
METHOD:PUBLISH
X-WR-CALNAME:caldesm@caldesdemontbui.cat
X-WR-TIMEZONE:Europe/Madrid
DESCRIPTION:
URI:https://www.caldesdemontbui.cat/actualitat/agenda/concert-de-gospel-tons-and-sons.html
CLASS:PUBLIC
END:VEVENT
END:VCALENDAR
