BEGIN:VCALENDAR
VERSION:2.0
CALSCALE:GREGORIAN
PRODID:-//Diputació de Barcelona//DibaCMS//EN
BEGIN:VEVENT
UID:6170
DTSTAMP:20260424T022908
DTSTART:20111217T173000
DTEND:20111217T000000
SUMMARY:Pastorets, a càrrec de la Cia. L'evocador
LOCATION:
METHOD:PUBLISH
X-WR-CALNAME:caldesm@caldesdemontbui.cat
X-WR-TIMEZONE:Europe/Madrid
DESCRIPTION:
URI:https://www.caldesdemontbui.cat/actualitat/agenda/pastorets-a-carrec-de-la-cia-levocador.html
CLASS:PUBLIC
END:VEVENT
END:VCALENDAR
