BEGIN:VCALENDAR
VERSION:2.0
CALSCALE:GREGORIAN
PRODID:-//Diputació de Barcelona//DibaCMS//EN
BEGIN:VEVENT
UID:6169
DTSTAMP:20260423T212935
DTSTART:20111217T123000
DTEND:20111217T000000
SUMMARY:Exposició de gravat i pintura de Gemma Solé, del 17 de desembre de 2011 a l'1 de gener de 2012.
LOCATION:
METHOD:PUBLISH
X-WR-CALNAME:caldesm@caldesdemontbui.cat
X-WR-TIMEZONE:Europe/Madrid
DESCRIPTION:
URI:https://www.caldesdemontbui.cat/actualitat/agenda/exposicio-de-gravat-i-pintura-de-gemma-sole-del-17-de-desembre-de-2011-a-l1-de-gener-de-2012.html
CLASS:PUBLIC
END:VEVENT
END:VCALENDAR
