BEGIN:VCALENDAR
VERSION:2.0
CALSCALE:GREGORIAN
PRODID:-//Diputació de Barcelona//DibaCMS//EN
BEGIN:VEVENT
UID:6166
DTSTAMP:20260424T034952
DTSTART:20111217T080000
DTEND:20111217T000000
SUMMARY:Pujada al cim del Puigmal
LOCATION:
METHOD:PUBLISH
X-WR-CALNAME:caldesm@caldesdemontbui.cat
X-WR-TIMEZONE:Europe/Madrid
DESCRIPTION:
URI:https://www.caldesdemontbui.cat/actualitat/agenda/pujada-al-cim-del-puigmal.html
CLASS:PUBLIC
END:VEVENT
END:VCALENDAR
