BEGIN:VCALENDAR
VERSION:2.0
CALSCALE:GREGORIAN
PRODID:-//Diputació de Barcelona//DibaCMS//EN
BEGIN:VEVENT
UID:6164
DTSTAMP:20260423T230753
DTSTART:20111216T203000
DTEND:20111216T000000
SUMMARY:Presentació del nou disc "L'home que gira", d'ERM
LOCATION:
METHOD:PUBLISH
X-WR-CALNAME:caldesm@caldesdemontbui.cat
X-WR-TIMEZONE:Europe/Madrid
DESCRIPTION:
URI:https://www.caldesdemontbui.cat/actualitat/agenda/presentacio-del-nou-disc-lhome-que-gira-derm.html
CLASS:PUBLIC
END:VEVENT
END:VCALENDAR
