BEGIN:VCALENDAR
VERSION:2.0
CALSCALE:GREGORIAN
PRODID:-//Diputació de Barcelona//DibaCMS//EN
BEGIN:VEVENT
UID:6163
DTSTAMP:20260424T040831
DTSTART:20111216T190000
DTEND:20111216T000000
SUMMARY:Taller nadalenc i inauguració de la VII Exposició de diorames de pessebres
LOCATION:
METHOD:PUBLISH
X-WR-CALNAME:caldesm@caldesdemontbui.cat
X-WR-TIMEZONE:Europe/Madrid
DESCRIPTION:
URI:https://www.caldesdemontbui.cat/actualitat/agenda/taller-nadalenc-i-inauguracio-de-la-vii-exposicio-de-diorames-de-pessebres.html
CLASS:PUBLIC
END:VEVENT
END:VCALENDAR
