BEGIN:VCALENDAR
VERSION:2.0
CALSCALE:GREGORIAN
PRODID:-//Diputació de Barcelona//DibaCMS//EN
BEGIN:VEVENT
UID:6162
DTSTAMP:20260423T211248
DTSTART:20111216T000000
DTEND:20111216T000000
SUMMARY:Fins el 16 de desembre: Concurs de dibuix i concurs de pessebres a casa
LOCATION:
METHOD:PUBLISH
X-WR-CALNAME:caldesm@caldesdemontbui.cat
X-WR-TIMEZONE:Europe/Madrid
DESCRIPTION:
URI:https://www.caldesdemontbui.cat/actualitat/agenda/fins-el-16-de-desembre-concurs-de-dibuix-i-concurs-de-pessebres-a-casa.html
CLASS:PUBLIC
END:VEVENT
END:VCALENDAR
