BEGIN:VCALENDAR
VERSION:2.0
CALSCALE:GREGORIAN
PRODID:-//Diputació de Barcelona//DibaCMS//EN
BEGIN:VEVENT
UID:6160
DTSTAMP:20260423T195137
DTSTART:20111214T200000
DTEND:20111214T000000
SUMMARY:Presentació de l'associació pels drets dels vianants Pas a pas
LOCATION:
METHOD:PUBLISH
X-WR-CALNAME:caldesm@caldesdemontbui.cat
X-WR-TIMEZONE:Europe/Madrid
DESCRIPTION:
URI:https://www.caldesdemontbui.cat/actualitat/agenda/presentacio-de-lassociacio-pels-drets-dels-vianants-pas-a-pas.html
CLASS:PUBLIC
END:VEVENT
END:VCALENDAR
