BEGIN:VCALENDAR
VERSION:2.0
CALSCALE:GREGORIAN
PRODID:-//Diputació de Barcelona//DibaCMS//EN
BEGIN:VEVENT
UID:6159
DTSTAMP:20260423T144651
DTSTART:20111214T173000
DTEND:20111214T000000
SUMMARY:Cicle despendre per aprendre. Xerrada: És Nadal i a casa hi ha una cadira buida
LOCATION:
METHOD:PUBLISH
X-WR-CALNAME:caldesm@caldesdemontbui.cat
X-WR-TIMEZONE:Europe/Madrid
DESCRIPTION:
URI:https://www.caldesdemontbui.cat/actualitat/agenda/cicle-despendre-per-aprendre-xerrada-es-nadal-i-a-casa-hi-ha-una-cadira-buida.html
CLASS:PUBLIC
END:VEVENT
END:VCALENDAR
