BEGIN:VCALENDAR
VERSION:2.0
CALSCALE:GREGORIAN
PRODID:-//Diputació de Barcelona//DibaCMS//EN
BEGIN:VEVENT
UID:6158
DTSTAMP:20260423T165515
DTSTART:20111214T160000
DTEND:20111214T000000
SUMMARY:Les relacions interpersonals home-dona a la tercera edat
LOCATION:
METHOD:PUBLISH
X-WR-CALNAME:caldesm@caldesdemontbui.cat
X-WR-TIMEZONE:Europe/Madrid
DESCRIPTION:
URI:https://www.caldesdemontbui.cat/actualitat/agenda/les-relacions-interpersonals-home-dona-a-la-tercera-edat.html
CLASS:PUBLIC
END:VEVENT
END:VCALENDAR
