BEGIN:VCALENDAR
VERSION:2.0
CALSCALE:GREGORIAN
PRODID:-//Diputació de Barcelona//DibaCMS//EN
BEGIN:VEVENT
UID:6156
DTSTAMP:20260424T040653
DTSTART:20111213T090000
DTEND:20111213T000000
SUMMARY:Excursió pre Nadal: Estartit, Figueres i Platja d'Aro
LOCATION:
METHOD:PUBLISH
X-WR-CALNAME:caldesm@caldesdemontbui.cat
X-WR-TIMEZONE:Europe/Madrid
DESCRIPTION:
URI:https://www.caldesdemontbui.cat/actualitat/agenda/excursio-pre-nadal-estartit-figueres-i-platja-daro.html
CLASS:PUBLIC
END:VEVENT
END:VCALENDAR
