BEGIN:VCALENDAR
VERSION:2.0
CALSCALE:GREGORIAN
PRODID:-//Diputació de Barcelona//DibaCMS//EN
BEGIN:VEVENT
UID:6155
DTSTAMP:20260423T180428
DTSTART:20111212T000000
DTEND:20111212T000000
SUMMARY:Setmana solidària (fins el 16 de desembre)
LOCATION:
METHOD:PUBLISH
X-WR-CALNAME:caldesm@caldesdemontbui.cat
X-WR-TIMEZONE:Europe/Madrid
DESCRIPTION:
URI:https://www.caldesdemontbui.cat/actualitat/agenda/setmana-solidaria-fins-el-16-de-desembre.html
CLASS:PUBLIC
END:VEVENT
END:VCALENDAR
