BEGIN:VCALENDAR
VERSION:2.0
CALSCALE:GREGORIAN
PRODID:-//Diputació de Barcelona//DibaCMS//EN
BEGIN:VEVENT
UID:6151
DTSTAMP:20260423T173413
DTSTART:20111210T000000
DTEND:20111210T000000
SUMMARY:Data límit per incriure't al Club dels Enganxats
LOCATION:
METHOD:PUBLISH
X-WR-CALNAME:caldesm@caldesdemontbui.cat
X-WR-TIMEZONE:Europe/Madrid
DESCRIPTION:
URI:https://www.caldesdemontbui.cat/actualitat/agenda/data-limit-per-incriuret-al-club-dels-enganxats.html
CLASS:PUBLIC
END:VEVENT
END:VCALENDAR
