BEGIN:VCALENDAR
VERSION:2.0
CALSCALE:GREGORIAN
PRODID:-//Diputació de Barcelona//DibaCMS//EN
BEGIN:VEVENT
UID:6150
DTSTAMP:20260424T154425
DTSTART:20111210T000000
DTEND:20111210T000000
SUMMARY:Tallers de Nadal (fins el 4 de gener)
LOCATION:
METHOD:PUBLISH
X-WR-CALNAME:caldesm@caldesdemontbui.cat
X-WR-TIMEZONE:Europe/Madrid
DESCRIPTION:
URI:https://www.caldesdemontbui.cat/actualitat/agenda/tallers-de-nadal-fins-el-4-de-gener.html
CLASS:PUBLIC
END:VEVENT
END:VCALENDAR
