BEGIN:VCALENDAR
VERSION:2.0
CALSCALE:GREGORIAN
PRODID:-//Diputació de Barcelona//DibaCMS//EN
BEGIN:VEVENT
UID:6146
DTSTAMP:20260423T195930
DTSTART:20111207T160000
DTEND:20111207T000000
SUMMARY:Visita al Museu Thermalia
LOCATION:
METHOD:PUBLISH
X-WR-CALNAME:caldesm@caldesdemontbui.cat
X-WR-TIMEZONE:Europe/Madrid
DESCRIPTION:
URI:https://www.caldesdemontbui.cat/actualitat/agenda/visita-al-museu-thermalia.html
CLASS:PUBLIC
END:VEVENT
END:VCALENDAR
