BEGIN:VCALENDAR
VERSION:2.0
CALSCALE:GREGORIAN
PRODID:-//Diputació de Barcelona//DibaCMS//EN
BEGIN:VEVENT
UID:6145
DTSTAMP:20260423T214913
DTSTART:20111207T110000
DTEND:20111207T000000
SUMMARY:Xerrada informativa sobre el projecte ILOQUID, i el curs de monitor/a de lleure per a infants i joves.
LOCATION:
METHOD:PUBLISH
X-WR-CALNAME:caldesm@caldesdemontbui.cat
X-WR-TIMEZONE:Europe/Madrid
DESCRIPTION:
URI:https://www.caldesdemontbui.cat/actualitat/agenda/xerrada-informativa-sobre-el-projecte-iloquid-i-el-curs-de-monitora-de-lleure-per-a-infants-i-joves.html
CLASS:PUBLIC
END:VEVENT
END:VCALENDAR
