BEGIN:VCALENDAR
VERSION:2.0
CALSCALE:GREGORIAN
PRODID:-//Diputació de Barcelona//DibaCMS//EN
BEGIN:VEVENT
UID:6142
DTSTAMP:20260423T160313
DTSTART:20111206T180000
DTEND:20111206T000000
SUMMARY:Ball de saló amb música en directe
LOCATION:
METHOD:PUBLISH
X-WR-CALNAME:caldesm@caldesdemontbui.cat
X-WR-TIMEZONE:Europe/Madrid
DESCRIPTION:
URI:https://www.caldesdemontbui.cat/actualitat/agenda/ball-de-salo-amb-msica-en-directe.html
CLASS:PUBLIC
END:VEVENT
END:VCALENDAR
