BEGIN:VCALENDAR
VERSION:2.0
CALSCALE:GREGORIAN
PRODID:-//Diputació de Barcelona//DibaCMS//EN
BEGIN:VEVENT
UID:6141
DTSTAMP:20260424T005224
DTSTART:20111205T000000
DTEND:20111205T000000
SUMMARY:Pessebre universal. Fins el 13 de gener
LOCATION:
METHOD:PUBLISH
X-WR-CALNAME:caldesm@caldesdemontbui.cat
X-WR-TIMEZONE:Europe/Madrid
DESCRIPTION:
URI:https://www.caldesdemontbui.cat/actualitat/agenda/pessebre-universal-fins-el-13-de-gener.html
CLASS:PUBLIC
END:VEVENT
END:VCALENDAR
