BEGIN:VCALENDAR
VERSION:2.0
CALSCALE:GREGORIAN
PRODID:-//Diputació de Barcelona//DibaCMS//EN
BEGIN:VEVENT
UID:6139
DTSTAMP:20260423T213153
DTSTART:20111203T183000
DTEND:20111203T000000
SUMMARY:Nadales d'ara i de sempre, a càrrec de l'Escola Municipal de Música Joan Valls 
LOCATION:
METHOD:PUBLISH
X-WR-CALNAME:caldesm@caldesdemontbui.cat
X-WR-TIMEZONE:Europe/Madrid
DESCRIPTION:
URI:https://www.caldesdemontbui.cat/actualitat/agenda/nadales-dara-i-de-sempre-a-carrec-de-lescola-municipal-de-msica-joan-valls-.html
CLASS:PUBLIC
END:VEVENT
END:VCALENDAR
