BEGIN:VCALENDAR
VERSION:2.0
CALSCALE:GREGORIAN
PRODID:-//Diputació de Barcelona//DibaCMS//EN
BEGIN:VEVENT
UID:6138
DTSTAMP:20260424T053706
DTSTART:20111203T160000
DTEND:20111203T000000
SUMMARY:Celebració de l'aniversari de l'Esplai: Cantada d'havaneres
LOCATION:
METHOD:PUBLISH
X-WR-CALNAME:caldesm@caldesdemontbui.cat
X-WR-TIMEZONE:Europe/Madrid
DESCRIPTION:
URI:https://www.caldesdemontbui.cat/actualitat/agenda/celebracio-de-laniversari-de-lesplai-cantada-dhavaneres.html
CLASS:PUBLIC
END:VEVENT
END:VCALENDAR
