BEGIN:VCALENDAR
VERSION:2.0
CALSCALE:GREGORIAN
PRODID:-//Diputació de Barcelona//DibaCMS//EN
BEGIN:VEVENT
UID:6137
DTSTAMP:20260424T071436
DTSTART:20111203T100000
DTEND:20111203T000000
SUMMARY:Fira dels minerals per l'harmonia
LOCATION:
METHOD:PUBLISH
X-WR-CALNAME:caldesm@caldesdemontbui.cat
X-WR-TIMEZONE:Europe/Madrid
DESCRIPTION:
URI:https://www.caldesdemontbui.cat/actualitat/agenda/fira-dels-minerals-per-lharmonia.html
CLASS:PUBLIC
END:VEVENT
END:VCALENDAR
