BEGIN:VCALENDAR
VERSION:2.0
CALSCALE:GREGORIAN
PRODID:-//Diputació de Barcelona//DibaCMS//EN
BEGIN:VEVENT
UID:6135
DTSTAMP:20260423T180845
DTSTART:20111203T100000
DTEND:20111204T000000
SUMMARY:XXVI Fira de Nadal i Mercat d'Artesans
LOCATION:
METHOD:PUBLISH
X-WR-CALNAME:caldesm@caldesdemontbui.cat
X-WR-TIMEZONE:Europe/Madrid
DESCRIPTION:
URI:https://www.caldesdemontbui.cat/actualitat/agenda/xxvi-fira-de-nadal-i-mercat-dartesans.html
CLASS:PUBLIC
END:VEVENT
END:VCALENDAR
