BEGIN:VCALENDAR
VERSION:2.0
CALSCALE:GREGORIAN
PRODID:-//Diputació de Barcelona//DibaCMS//EN
BEGIN:VEVENT
UID:6134
DTSTAMP:20260424T040616
DTSTART:20111203T090000
DTEND:20111203T000000
SUMMARY:IX Escola de Ciclisme 
LOCATION:
METHOD:PUBLISH
X-WR-CALNAME:caldesm@caldesdemontbui.cat
X-WR-TIMEZONE:Europe/Madrid
DESCRIPTION:
URI:https://www.caldesdemontbui.cat/actualitat/agenda/ix-escola-de-ciclisme-.html
CLASS:PUBLIC
END:VEVENT
END:VCALENDAR
