BEGIN:VCALENDAR
VERSION:2.0
CALSCALE:GREGORIAN
PRODID:-//Diputació de Barcelona//DibaCMS//EN
BEGIN:VEVENT
UID:6133
DTSTAMP:20260423T180102
DTSTART:20111203T080000
DTEND:20111203T000000
SUMMARY:Sortida a la zona dels Ports de Tortosa - Besseit
LOCATION:
METHOD:PUBLISH
X-WR-CALNAME:caldesm@caldesdemontbui.cat
X-WR-TIMEZONE:Europe/Madrid
DESCRIPTION:
URI:https://www.caldesdemontbui.cat/actualitat/agenda/sortida-a-la-zona-dels-ports-de-tortosa---besseit.html
CLASS:PUBLIC
END:VEVENT
END:VCALENDAR
