BEGIN:VCALENDAR
VERSION:2.0
CALSCALE:GREGORIAN
PRODID:-//Diputació de Barcelona//DibaCMS//EN
BEGIN:VEVENT
UID:6131
DTSTAMP:20260423T201508
DTSTART:20111203T000000
DTEND:20111204T210000
SUMMARY:Fira de Nadal. Parades nadalenques i artesanals i activitats familiars 
LOCATION:
METHOD:PUBLISH
X-WR-CALNAME:caldesm@caldesdemontbui.cat
X-WR-TIMEZONE:Europe/Madrid
DESCRIPTION:
URI:https://www.caldesdemontbui.cat/actualitat/agenda/fira-de-nadal-parades-nadalenques-i-artesanals-i-activitats-familiars-.html
CLASS:PUBLIC
END:VEVENT
END:VCALENDAR
