BEGIN:VCALENDAR
VERSION:2.0
CALSCALE:GREGORIAN
PRODID:-//Diputació de Barcelona//DibaCMS//EN
BEGIN:VEVENT
UID:6130
DTSTAMP:20260424T084915
DTSTART:20111202T203000
DTEND:20111202T000000
SUMMARY:Xerrada: 40 anys de l'Assemblea de Catalunya explicada per alguns protagonistes
LOCATION:
METHOD:PUBLISH
X-WR-CALNAME:caldesm@caldesdemontbui.cat
X-WR-TIMEZONE:Europe/Madrid
DESCRIPTION:
URI:https://www.caldesdemontbui.cat/actualitat/agenda/xerrada-40-anys-de-lassemblea-de-catalunya-explicada-per-alguns-protagonistes.html
CLASS:PUBLIC
END:VEVENT
END:VCALENDAR
