BEGIN:VCALENDAR
VERSION:2.0
CALSCALE:GREGORIAN
PRODID:-//Diputació de Barcelona//DibaCMS//EN
BEGIN:VEVENT
UID:6129
DTSTAMP:20260424T035201
DTSTART:20111202T193000
DTEND:20111202T000000
SUMMARY:Exposició d'Helena Pielias "La casa per la finestra"
LOCATION:
METHOD:PUBLISH
X-WR-CALNAME:caldesm@caldesdemontbui.cat
X-WR-TIMEZONE:Europe/Madrid
DESCRIPTION:
URI:https://www.caldesdemontbui.cat/actualitat/agenda/exposicio-dhelena-pielias-la-casa-per-la-finestra.html
CLASS:PUBLIC
END:VEVENT
END:VCALENDAR
