BEGIN:VCALENDAR
VERSION:2.0
CALSCALE:GREGORIAN
PRODID:-//Diputació de Barcelona//DibaCMS//EN
BEGIN:VEVENT
UID:6127
DTSTAMP:20260424T025331
DTSTART:20111201T100000
DTEND:20111201T000000
SUMMARY:Taller: Despertar amb un somriure
LOCATION:
METHOD:PUBLISH
X-WR-CALNAME:caldesm@caldesdemontbui.cat
X-WR-TIMEZONE:Europe/Madrid
DESCRIPTION:
URI:https://www.caldesdemontbui.cat/actualitat/agenda/taller-despertar-amb-un-somriure.html
CLASS:PUBLIC
END:VEVENT
END:VCALENDAR
