BEGIN:VCALENDAR
VERSION:2.0
CALSCALE:GREGORIAN
PRODID:-//Diputació de Barcelona//DibaCMS//EN
BEGIN:VEVENT
UID:6124
DTSTAMP:20260423T180924
DTSTART:20111130T120000
DTEND:20111130T000000
SUMMARY:Viatgeteca 2011. Veieu les fotografies on line a http://goo.gl/1dC0L 
LOCATION:
METHOD:PUBLISH
X-WR-CALNAME:caldesm@caldesdemontbui.cat
X-WR-TIMEZONE:Europe/Madrid
DESCRIPTION:
URI:https://www.caldesdemontbui.cat/actualitat/agenda/viatgeteca-2011-veieu-les-fotografies-on-line-a-httpgoogl1dc0l-.html
CLASS:PUBLIC
END:VEVENT
END:VCALENDAR
