BEGIN:VCALENDAR
VERSION:2.0
CALSCALE:GREGORIAN
PRODID:-//Diputació de Barcelona//DibaCMS//EN
BEGIN:VEVENT
UID:6121
DTSTAMP:20260424T052747
DTSTART:20111127T183000
DTEND:20111127T000000
SUMMARY:Exposició i xerrada col·loqui: Peruanes a Barcelona 1985-2010. Ciutadanes d'aquí i d'allà
LOCATION:
METHOD:PUBLISH
X-WR-CALNAME:caldesm@caldesdemontbui.cat
X-WR-TIMEZONE:Europe/Madrid
DESCRIPTION:
URI:https://www.caldesdemontbui.cat/actualitat/agenda/exposicio-i-xerrada-colloqui-peruanes-a-barcelona-1985-2010-ciutadanes-daqui-i-dalla.html
CLASS:PUBLIC
END:VEVENT
END:VCALENDAR
