BEGIN:VCALENDAR
VERSION:2.0
CALSCALE:GREGORIAN
PRODID:-//Diputació de Barcelona//DibaCMS//EN
BEGIN:VEVENT
UID:6118
DTSTAMP:20260424T005432
DTSTART:20111127T080000
DTEND:20111127T000000
SUMMARY:3a Etapa del Camí de Sant Jaume
LOCATION:
METHOD:PUBLISH
X-WR-CALNAME:caldesm@caldesdemontbui.cat
X-WR-TIMEZONE:Europe/Madrid
DESCRIPTION:
URI:https://www.caldesdemontbui.cat/actualitat/agenda/3a-etapa-del-cami-de-sant-jaume.html
CLASS:PUBLIC
END:VEVENT
END:VCALENDAR
