BEGIN:VCALENDAR
VERSION:2.0
CALSCALE:GREGORIAN
PRODID:-//Diputació de Barcelona//DibaCMS//EN
BEGIN:VEVENT
UID:6116
DTSTAMP:20260423T210151
DTSTART:20111125T150000
DTEND:20111125T000000
SUMMARY:Gran recapta d'aliments de Càritas
LOCATION:
METHOD:PUBLISH
X-WR-CALNAME:caldesm@caldesdemontbui.cat
X-WR-TIMEZONE:Europe/Madrid
DESCRIPTION:
URI:https://www.caldesdemontbui.cat/actualitat/agenda/gran-recapta-daliments-de-caritas.html
CLASS:PUBLIC
END:VEVENT
END:VCALENDAR
