BEGIN:VCALENDAR
VERSION:2.0
CALSCALE:GREGORIAN
PRODID:-//Diputació de Barcelona//DibaCMS//EN
BEGIN:VEVENT
UID:6114
DTSTAMP:20260423T221055
DTSTART:20111124T173000
DTEND:20111124T000000
SUMMARY:Presentació del nou sistema operatiu Ubuntu 11.10 (Oneiric Ocelot) i Install Party a càrrec de Josep Gallart, a la Biblioteca.
LOCATION:
METHOD:PUBLISH
X-WR-CALNAME:caldesm@caldesdemontbui.cat
X-WR-TIMEZONE:Europe/Madrid
DESCRIPTION:
URI:https://www.caldesdemontbui.cat/actualitat/agenda/presentacio-del-nou-sistema-operatiu-ubuntu-1110-oneiric-ocelot-i-install-party-a-carrec-de-josep-gallart-a-la-biblioteca.html
CLASS:PUBLIC
END:VEVENT
END:VCALENDAR
