BEGIN:VCALENDAR
VERSION:2.0
CALSCALE:GREGORIAN
PRODID:-//Diputació de Barcelona//DibaCMS//EN
BEGIN:VEVENT
UID:6112
DTSTAMP:20260424T020146
DTSTART:20111123T180000
DTEND:20111123T000000
SUMMARY:L'Escola Municipal de Música Joan Valls celebra la festivitat de Santa Cecília amb un concert el 23 de novembre a les 18 h
LOCATION:
METHOD:PUBLISH
X-WR-CALNAME:caldesm@caldesdemontbui.cat
X-WR-TIMEZONE:Europe/Madrid
DESCRIPTION:
URI:https://www.caldesdemontbui.cat/actualitat/agenda/lescola-municipal-de-msica-joan-valls-celebra-la-festivitat-de-santa-cecilia-amb-un-concert-el-23-de-novembre-a-les-18-h.html
CLASS:PUBLIC
END:VEVENT
END:VCALENDAR
