BEGIN:VCALENDAR
VERSION:2.0
CALSCALE:GREGORIAN
PRODID:-//Diputació de Barcelona//DibaCMS//EN
BEGIN:VEVENT
UID:6110
DTSTAMP:20260423T192459
DTSTART:20111123T090000
DTEND:20111123T000000
SUMMARY:Caminada al Negrell i a la Borda
LOCATION:
METHOD:PUBLISH
X-WR-CALNAME:caldesm@caldesdemontbui.cat
X-WR-TIMEZONE:Europe/Madrid
DESCRIPTION:
URI:https://www.caldesdemontbui.cat/actualitat/agenda/caminada-al-negrell-i-a-la-borda.html
CLASS:PUBLIC
END:VEVENT
END:VCALENDAR
