BEGIN:VCALENDAR
VERSION:2.0
CALSCALE:GREGORIAN
PRODID:-//Diputació de Barcelona//DibaCMS//EN
BEGIN:VEVENT
UID:6108
DTSTAMP:20260423T221508
DTSTART:20111122T113000
DTEND:20111122T000000
SUMMARY:El CEIP El Farell celebra Santa Cecília amb un concert a càrrec d'alumnes de l'escola i de l'escola Municipal de Música Joan Valls
LOCATION:
METHOD:PUBLISH
X-WR-CALNAME:caldesm@caldesdemontbui.cat
X-WR-TIMEZONE:Europe/Madrid
DESCRIPTION:
URI:https://www.caldesdemontbui.cat/actualitat/agenda/el-ceip-el-farell-celebra-santa-cecilia-amb-un-concert-a-carrec-dalumnes-de-lescola-i-de-lescola-municipal-de-msica-joan-valls.html
CLASS:PUBLIC
END:VEVENT
END:VCALENDAR
