BEGIN:VCALENDAR
VERSION:2.0
CALSCALE:GREGORIAN
PRODID:-//Diputació de Barcelona//DibaCMS//EN
BEGIN:VEVENT
UID:6104
DTSTAMP:20260423T185144
DTSTART:20111118T200000
DTEND:20111118T000000
SUMMARY:Festa en honor de nostra senyora del Quinche, d'Equador
LOCATION:
METHOD:PUBLISH
X-WR-CALNAME:caldesm@caldesdemontbui.cat
X-WR-TIMEZONE:Europe/Madrid
DESCRIPTION:
URI:https://www.caldesdemontbui.cat/actualitat/agenda/festa-en-honor-de-nostra-senyora-del-quinche-dequador.html
CLASS:PUBLIC
END:VEVENT
END:VCALENDAR
