BEGIN:VCALENDAR
VERSION:2.0
CALSCALE:GREGORIAN
PRODID:-//Diputació de Barcelona//DibaCMS//EN
BEGIN:VEVENT
UID:6103
DTSTAMP:20260424T084946
DTSTART:20111117T000000
DTEND:20111117T000000
SUMMARY:Contes en anglès a la Biblioteca de Caldes. STORY TIME: The Witch's Broomstick
LOCATION:
METHOD:PUBLISH
X-WR-CALNAME:caldesm@caldesdemontbui.cat
X-WR-TIMEZONE:Europe/Madrid
DESCRIPTION:
URI:https://www.caldesdemontbui.cat/actualitat/agenda/contes-en-angles-a-la-biblioteca-de-caldes-story-time-the-witchs-broomstick.html
CLASS:PUBLIC
END:VEVENT
END:VCALENDAR
