BEGIN:VCALENDAR
VERSION:2.0
CALSCALE:GREGORIAN
PRODID:-//Diputació de Barcelona//DibaCMS//EN
BEGIN:VEVENT
UID:6100
DTSTAMP:20260424T001426
DTSTART:20111116T160000
DTEND:20111116T000000
SUMMARY:Records de l'escola
LOCATION:
METHOD:PUBLISH
X-WR-CALNAME:caldesm@caldesdemontbui.cat
X-WR-TIMEZONE:Europe/Madrid
DESCRIPTION:
URI:https://www.caldesdemontbui.cat/actualitat/agenda/records-de-lescola.html
CLASS:PUBLIC
END:VEVENT
END:VCALENDAR
