BEGIN:VCALENDAR
VERSION:2.0
CALSCALE:GREGORIAN
PRODID:-//Diputació de Barcelona//DibaCMS//EN
BEGIN:VEVENT
UID:6099
DTSTAMP:20260424T052824
DTSTART:20111116T090000
DTEND:20111116T000000
SUMMARY:Caminada a la Torre Roja
LOCATION:
METHOD:PUBLISH
X-WR-CALNAME:caldesm@caldesdemontbui.cat
X-WR-TIMEZONE:Europe/Madrid
DESCRIPTION:
URI:https://www.caldesdemontbui.cat/actualitat/agenda/caminada-a-la-torre-roja.html
CLASS:PUBLIC
END:VEVENT
END:VCALENDAR
