BEGIN:VCALENDAR
VERSION:2.0
CALSCALE:GREGORIAN
PRODID:-//Diputació de Barcelona//DibaCMS//EN
BEGIN:VEVENT
UID:6097
DTSTAMP:20260424T135527
DTSTART:20111113T190000
DTEND:20111113T000000
SUMMARY:Sessió de Cine club: El sol de la vida
LOCATION:
METHOD:PUBLISH
X-WR-CALNAME:caldesm@caldesdemontbui.cat
X-WR-TIMEZONE:Europe/Madrid
DESCRIPTION:
URI:https://www.caldesdemontbui.cat/actualitat/agenda/sessio-de-cine-club-el-sol-de-la-vida.html
CLASS:PUBLIC
END:VEVENT
END:VCALENDAR
