BEGIN:VCALENDAR
VERSION:2.0
CALSCALE:GREGORIAN
PRODID:-//Diputació de Barcelona//DibaCMS//EN
BEGIN:VEVENT
UID:6096
DTSTAMP:20260423T192038
DTSTART:20111113T080000
DTEND:20111113T000000
SUMMARY:Sortida matinal al Massís de Montserrat
LOCATION:
METHOD:PUBLISH
X-WR-CALNAME:caldesm@caldesdemontbui.cat
X-WR-TIMEZONE:Europe/Madrid
DESCRIPTION:
URI:https://www.caldesdemontbui.cat/actualitat/agenda/sortida-matinal-al-massis-de-montserrat.html
CLASS:PUBLIC
END:VEVENT
END:VCALENDAR
